BEGIN:VCALENDAR
PRODID;X-RICAL-TZSOURCE=TZINFO:-//Calagator//EN
CALSCALE:GREGORIAN
X-WR-CALNAME:Adapt2Play
METHOD:PUBLISH
VERSION:2.0
BEGIN:VEVENT
CREATED;VALUE=DATE-TIME:20260404T000237Z
DTEND;VALUE=DATE-TIME:20260528T150000Z
DTSTART;VALUE=DATE-TIME:20260528T140000Z
DTSTAMP;VALUE=DATE-TIME:20260404T000237Z
LAST-MODIFIED;VALUE=DATE-TIME:20260404T000237Z
UID:https://adapt2play.org/events/22604-adaptive-hiking-clark-lookout-new
 -london-nh
DESCRIPTION:Cost: $10 \nMeeting at New London Park and Ride\, NH 103A\, N
 ew London\, NH \n \n\nImported from: https://adapt2play.org/events/22604
 -adaptive-hiking-clark-lookout-new-london-nh
URL:https://nehsa.org/events/adaptive-hiking-clark-lookout-new-london-nh/
SUMMARY:Adaptive Hiking - Clark Lookout\, New London\, NH
LOCATION:Location:: 103a Main Street\, New London New Hampshire 03257 
SEQUENCE:1
END:VEVENT
END:VCALENDAR
