BEGIN:VCALENDAR
PRODID;X-RICAL-TZSOURCE=TZINFO:-//Calagator//EN
CALSCALE:GREGORIAN
X-WR-CALNAME:Adapt2Play
METHOD:PUBLISH
VERSION:2.0
BEGIN:VEVENT
CREATED;VALUE=DATE-TIME:20260404T000237Z
DTEND;VALUE=DATE-TIME:20260526T150000Z
DTSTART;VALUE=DATE-TIME:20260526T140000Z
DTSTAMP;VALUE=DATE-TIME:20260404T000237Z
LAST-MODIFIED;VALUE=DATE-TIME:20260404T000237Z
UID:https://adapt2play.org/events/22603-adaptive-hiking-kellyville-rail-t
 rail-kellyville-newport-nh
DESCRIPTION:Cost: $10 \nLocation: 1016-2102 Sugar River Trail\, Newport\,
  NH\n\nImported from: https://adapt2play.org/events/22603-adaptive-hikin
 g-kellyville-rail-trail-kellyville-newport-nh
URL:https://nehsa.org/events/adaptive-hiking-kellyville-rail-trail-kellyv
 ille-newport-nh/
SUMMARY:Adaptive Hiking - Kellyville Rail Trail\, Kellyville (Newport)\, 
 NH
LOCATION:Location:: Newport\, Newport New Hampshire 03773 
SEQUENCE:1
END:VEVENT
END:VCALENDAR
