BEGIN:VCALENDAR
PRODID;X-RICAL-TZSOURCE=TZINFO:-//Calagator//EN
CALSCALE:GREGORIAN
X-WR-CALNAME:Adapt2Play
METHOD:PUBLISH
VERSION:2.0
BEGIN:VEVENT
CREATED;VALUE=DATE-TIME:20260404T000237Z
DTEND;VALUE=DATE-TIME:20260521T150000Z
DTSTART;VALUE=DATE-TIME:20260521T140000Z
DTSTAMP;VALUE=DATE-TIME:20260404T000237Z
LAST-MODIFIED;VALUE=DATE-TIME:20260404T000237Z
UID:https://adapt2play.org/events/22602-adaptive-hiking-newport-rail-trai
 l-at-greenwood-rd-newport-nh
DESCRIPTION:Cost: $10 \nLocation:  8 Greenwood Rd\, Newport\, NH\n\nImpor
 ted from: https://adapt2play.org/events/22602-adaptive-hiking-newport-ra
 il-trail-at-greenwood-rd-newport-nh
URL:https://nehsa.org/events/adaptive-hiking-newport-rail-trail-at-greenw
 ood-rd-newport-nh-2/
SUMMARY:Adaptive Hiking - Newport Rail Trail at Greenwood Rd\, Newport\, 
 NH
LOCATION:Location:: 8 Greenwood Road\, Newport New Hampshire 03773 
SEQUENCE:1
END:VEVENT
END:VCALENDAR
