BEGIN:VCALENDAR
PRODID;X-RICAL-TZSOURCE=TZINFO:-//Calagator//EN
CALSCALE:GREGORIAN
X-WR-CALNAME:Adapt2Play
METHOD:PUBLISH
VERSION:2.0
BEGIN:VEVENT
CREATED;VALUE=DATE-TIME:20260404T000237Z
DTEND;VALUE=DATE-TIME:20260519T150000Z
DTSTART;VALUE=DATE-TIME:20260519T140000Z
DTSTAMP;VALUE=DATE-TIME:20260404T000237Z
LAST-MODIFIED;VALUE=DATE-TIME:20260404T000237Z
UID:https://adapt2play.org/events/22601-adaptive-hiking-knights-hill-natu
 re-park-new-london-nh
DESCRIPTION:Cost: $10 \nLocation:  263 County Rd\, New London\, NH\n\nImp
 orted from: https://adapt2play.org/events/22601-adaptive-hiking-knights-
 hill-nature-park-new-london-nh
URL:https://nehsa.org/events/adaptive-hiking-knights-hill-nature-park-new
 -london-nh-2/
SUMMARY:Adaptive Hiking - Knights Hill Nature Park\, New London\, NH
LOCATION:Location:: 463 County Road\, New London New Hampshire 03257 
SEQUENCE:1
END:VEVENT
END:VCALENDAR
