BEGIN:VCALENDAR
PRODID;X-RICAL-TZSOURCE=TZINFO:-//Calagator//EN
CALSCALE:GREGORIAN
X-WR-CALNAME:Adapt2Play
METHOD:PUBLISH
VERSION:2.0
BEGIN:VEVENT
CREATED;VALUE=DATE-TIME:20260404T000237Z
DTEND;VALUE=DATE-TIME:20260514T150000Z
DTSTART;VALUE=DATE-TIME:20260514T140000Z
DTSTAMP;VALUE=DATE-TIME:20260404T000237Z
LAST-MODIFIED;VALUE=DATE-TIME:20260404T000237Z
UID:https://adapt2play.org/events/22599-adaptive-hiking-clark-pond-new-lo
 ndon-nh
DESCRIPTION:Cost:  $10 \nLocation:  Bog Rd\, New London\, NH\n\nImported 
 from: https://adapt2play.org/events/22599-adaptive-hiking-clark-pond-new
 -london-nh
URL:https://nehsa.org/events/adaptive-hiking-clark-pond-new-london-nh-2/
SUMMARY:Adaptive Hiking - Clark Pond\, New London\, NH
LOCATION:Location:: New London\, New London New Hampshire 03257 
SEQUENCE:1
END:VEVENT
END:VCALENDAR
