BEGIN:VCALENDAR
PRODID;X-RICAL-TZSOURCE=TZINFO:-//Calagator//EN
CALSCALE:GREGORIAN
X-WR-CALNAME:Adapt2Play
METHOD:PUBLISH
VERSION:2.0
BEGIN:VEVENT
CREATED;VALUE=DATE-TIME:20260404T000237Z
DTEND;VALUE=DATE-TIME:20260512T150000Z
DTSTART;VALUE=DATE-TIME:20260512T140000Z
DTSTAMP;VALUE=DATE-TIME:20260404T000237Z
LAST-MODIFIED;VALUE=DATE-TIME:20260404T000237Z
UID:https://adapt2play.org/events/22598-adaptive-hiking-fishersfield-recr
 eation-area-newbury-nh
DESCRIPTION:Cost:  $10 \nLocation:  200 Old Post Rd\, Newbury\, NH\n\nImp
 orted from: https://adapt2play.org/events/22598-adaptive-hiking-fishersf
 ield-recreation-area-newbury-nh
URL:https://nehsa.org/events/adaptive-hiking-fishersfield-recreation-area
 -newbury-nh-2/
SUMMARY:Adaptive Hiking - Fishersfield Recreation Area\, Newbury\, NH
LOCATION:Location:: 200 Old Post Road\, Newbury New Hampshire 03255 
SEQUENCE:1
END:VEVENT
END:VCALENDAR
