BEGIN:VCALENDAR
PRODID;X-RICAL-TZSOURCE=TZINFO:-//Calagator//EN
CALSCALE:GREGORIAN
X-WR-CALNAME:Adapt2Play
METHOD:PUBLISH
VERSION:2.0
BEGIN:VEVENT
CREATED;VALUE=DATE-TIME:20260404T000237Z
DTEND;VALUE=DATE-TIME:20260507T150000Z
DTSTART;VALUE=DATE-TIME:20260507T140000Z
DTSTAMP;VALUE=DATE-TIME:20260404T000237Z
LAST-MODIFIED;VALUE=DATE-TIME:20260404T000237Z
UID:https://adapt2play.org/events/22596-adaptive-hiking-esther-currier-wi
 ldlife-management-parking-new-london-nh
DESCRIPTION:Cost:  $10 \nLocated off Route 11 in New London\, NH\n\nImpor
 ted from: https://adapt2play.org/events/22596-adaptive-hiking-esther-cur
 rier-wildlife-management-parking-new-london-nh
URL:https://nehsa.org/events/adaptive-hiking-esther-currier-wildlife-mana
 gement-parking-new-london-nh-2/
SUMMARY:Adaptive Hiking - Esther Currier Wildlife Management Parking\, Ne
 w London\, NH
LOCATION:Location:: 11 State Route 103a\, New London New Hampshire 03257 
SEQUENCE:1
END:VEVENT
END:VCALENDAR
