BEGIN:VCALENDAR
PRODID;X-RICAL-TZSOURCE=TZINFO:-//Calagator//EN
CALSCALE:GREGORIAN
X-WR-CALNAME:Adapt2Play
METHOD:PUBLISH
VERSION:2.0
BEGIN:VEVENT
CREATED;VALUE=DATE-TIME:20260404T000237Z
DTEND;VALUE=DATE-TIME:20260505T150000Z
DTSTART;VALUE=DATE-TIME:20260505T140000Z
DTSTAMP;VALUE=DATE-TIME:20260404T000237Z
LAST-MODIFIED;VALUE=DATE-TIME:20260404T000237Z
UID:https://adapt2play.org/events/22595-adaptive-hiking-webb-forest-inter
 pretive-trails-new-london-nh
DESCRIPTION:Cost:  $10 \nLocated off Lakeshore Drive\, New London\, NH\n\
 nImported from: https://adapt2play.org/events/22595-adaptive-hiking-webb
 -forest-interpretive-trails-new-london-nh
URL:https://nehsa.org/events/adaptive-hiking-webb-forest-interpretive-tra
 ils-new-london-nh-2/
SUMMARY:Adaptive Hiking - Webb Forest Interpretive Trails\, New London\, 
 NH
LOCATION:Location:: New London\, New London New Hampshire 03257 
SEQUENCE:1
END:VEVENT
END:VCALENDAR
