BEGIN:VCALENDAR
PRODID;X-RICAL-TZSOURCE=TZINFO:-//Calagator//EN
CALSCALE:GREGORIAN
X-WR-CALNAME:Adapt2Play
METHOD:PUBLISH
VERSION:2.0
BEGIN:VEVENT
CREATED;VALUE=DATE-TIME:20260403T000315Z
DTEND;VALUE=DATE-TIME:20260419T070000Z
DTSTART;VALUE=DATE-TIME:20260419T060000Z
DTSTAMP;VALUE=DATE-TIME:20260403T000315Z
LAST-MODIFIED;VALUE=DATE-TIME:20260403T000315Z
UID:https://adapt2play.org/events/22570-members-skills-and-drills
DESCRIPTION:\n\nImported from: https://adapt2play.org/events/22570-member
 s-skills-and-drills
URL:https://rowrio.org/event/members-skills-and-drills-2/2026-04-19/
SUMMARY:Members Skills and Drills
LOCATION:Location:: 730 North Mill Avenue\, Tempe Arizona 85288 
SEQUENCE:1
END:VEVENT
END:VCALENDAR
