BEGIN:VCALENDAR
PRODID;X-RICAL-TZSOURCE=TZINFO:-//Calagator//EN
CALSCALE:GREGORIAN
X-WR-CALNAME:Adapt2Play
METHOD:PUBLISH
VERSION:2.0
BEGIN:VEVENT
CREATED;VALUE=DATE-TIME:20260403T000303Z
DTEND;VALUE=DATE-TIME:20260418T110000Z
DTSTART;VALUE=DATE-TIME:20260418T100000Z
DTSTAMP;VALUE=DATE-TIME:20260403T000303Z
LAST-MODIFIED;VALUE=DATE-TIME:20260404T000323Z
UID:https://adapt2play.org/events/22568-wheelchair-football-clinic
DESCRIPTION:Wheelchair Football Clinic Series\n\n\n\n\n\nFREE WHEELCHAIR 
 FOOTBALL CLINIC \nJoin BlazeSports for the first of two clinics this Spr
 ing on April 18th\, 2026. Our certified coach will lead the clinic in le
 arning the game\, conditioning\, drills\, plays\, and technique. All are
  welcome and Blaze can provide a sports wheelchair if you do not have on
 e. You do not need to have a helmet for this clinic. The Jason T. Harper
  Event Center is outdoors\, but is covered. There are accessible restroo
 ms and parking. \nSchedule (subject to change)\n9:30am  – Check-in/Welco
 me\n10:00am- Session 1\n12:00pm- Lunch Break\n12:30pm- Session 2\n2:00pm
   – Conclusion \nWhat to bring\nWater bottle\nTowel\nSports Wheelchair\,
  if you own one\nEquipment: Sports chairs can be provided for those who 
 need. \nRegister here. \n\n\n\nPlease visit our website at https://blaze
 sports.org/ For questions\, please email asmith@blazesports.org\n\nImpor
 ted from: https://adapt2play.org/events/22568-wheelchair-football-clinic
URL:https://blazesports.org/event/wheelchair-football-clinic/
SUMMARY:Wheelchair Football Clinic
LOCATION:Location:: 95 Lake Dow Road\, Mc Donough Georgia 30252 
SEQUENCE:2
END:VEVENT
END:VCALENDAR
