BEGIN:VCALENDAR
PRODID;X-RICAL-TZSOURCE=TZINFO:-//Calagator//EN
CALSCALE:GREGORIAN
X-WR-CALNAME:Adapt2Play
METHOD:PUBLISH
VERSION:2.0
BEGIN:VEVENT
CREATED;VALUE=DATE-TIME:20260403T000303Z
DTEND;VALUE=DATE-TIME:20260418T110000Z
DTSTART;VALUE=DATE-TIME:20260418T100000Z
DTSTAMP;VALUE=DATE-TIME:20260403T000303Z
LAST-MODIFIED;VALUE=DATE-TIME:20260404T000323Z
UID:https://adapt2play.org/events/22567-learn-to-train
DESCRIPTION:Learn to Train\nThe BlazeSports Learn to Train program caters
  to athletes who are already swim proficient and want to develop their s
 trokes/technique in a more competitive manner. Our BlazeSwim Coaches wor
 k with our athletes closely so that each athlete can adapt their stroke 
 technique to cater to their unique ability. The BlazeSwim team will comp
 ete in at least (4) adaptive swim meets during a typical year: The Palme
 tto Games\, The Fred Lambach Disability Meet\, The Peachtree Paragames –
  hosted by BlazeSports and the Move United Junior Nationals. \nIn order 
 to join this program\, athletes must be able to swim independently witho
 ut support and have some knowledge of the swim strokes. \nPRACTICE TIME:
  Saturdays from 10am – 12pm\, there will be sessions to space on athlete
 s for more one-on-one coaching. \nSTART DATE: Saturday\, February 28th\,
  2026 \nLOCATION: Marcus Jewish Community Center \nPRACTICE DETAILS:  To
  accomdate our growing numbers\, we will have assigned sessions for athl
 etes to ensure that each athlete recieves adequate coaching. Sessions wi
 ll be assigned after registration is complete \nWHO: \n\nYouth ages 6 – 
 22 with a physical disability including but not limited to amputation\, 
 spinal cord injury\, cerebral palsy\, spina bifida\, muscular dystrophy 
 and other related disabilities.\n\nRegister here.\n\nImported from: http
 s://adapt2play.org/events/22567-learn-to-train
URL:https://blazesports.org/event/learn-to-train/2026-04-18/
SUMMARY:Learn to Train
LOCATION:Location:: 5342 Tilly Mill Road\, Atlanta Georgia 30338 
SEQUENCE:2
END:VEVENT
END:VCALENDAR
