BEGIN:VCALENDAR
PRODID;X-RICAL-TZSOURCE=TZINFO:-//Calagator//EN
CALSCALE:GREGORIAN
X-WR-CALNAME:Adapt2Play
METHOD:PUBLISH
VERSION:2.0
BEGIN:VEVENT
CREATED;VALUE=DATE-TIME:20260403T000226Z
DTEND;VALUE=DATE-TIME:20260806T010000Z
DTSTART;VALUE=DATE-TIME:20260806T000000Z
DTSTAMP;VALUE=DATE-TIME:20260403T000226Z
LAST-MODIFIED;VALUE=DATE-TIME:20260421T000228Z
UID:https://adapt2play.org/events/22558-sms-junior-summer-camp
DESCRIPTION:Join us for an SMS Nordic camp this summer! \nThe 2026 SMS No
 rdic Junior Camp will be held at the SMS Campus. \nThe Junior Camp (9th-
 12th grade\, 14-18 yrs) \nThe SMS Nordic Program has combined sports sci
 ence\, a variety of proven training methods\, a culture of athlete-drive
 n excellence\, and of course\, fun to boast one of the most successful N
 ordic programs in the world. The program’s unprecedented national and in
 ternational success has produced 16 Olympians in the past seven Winter O
 lympics. Over 35 SMS Nordic athletes have made the U.S. World Junior Tea
 m\, and 25 have made the U.S. National Team. Each Summer\, SMS Nordic ho
 sts two summer camps for young skiers filled on a first-come\, first-ser
 ved basis \n\nAugust 6-9\, 2026 \nRegistration is open.\n\nImported from
 : https://adapt2play.org/events/22558-sms-junior-summer-camp
URL:https://nensa.net/event/sms-junior-summer-camp/
SUMMARY:SMS Junior Summer Camp
LOCATION:Location:: 6 World Cup Way\, Stratton Mnt Vermont 05155 
SEQUENCE:10
END:VEVENT
END:VCALENDAR
