BEGIN:VCALENDAR
PRODID;X-RICAL-TZSOURCE=TZINFO:-//Calagator//EN
CALSCALE:GREGORIAN
X-WR-CALNAME:Adapt2Play
METHOD:PUBLISH
VERSION:2.0
BEGIN:VEVENT
CREATED;VALUE=DATE-TIME:20260403T000226Z
DTEND;VALUE=DATE-TIME:20260803T010000Z
DTSTART;VALUE=DATE-TIME:20260803T000000Z
DTSTAMP;VALUE=DATE-TIME:20260403T000226Z
LAST-MODIFIED;VALUE=DATE-TIME:20260421T000228Z
UID:https://adapt2play.org/events/22557-sms-bkl-summer-camp
DESCRIPTION:Join us for an SMS Nordic camp this summer! \nThe 2026 SMS No
 rdic BKL Camp will be held at the SMS Campus. \nThe BKL Camp (5th-8th gr
 ade\, 10-14 yrs) \nThe SMS Nordic Program has combined sports science\, 
 a variety of proven training methods\, a culture of athlete-driven excel
 lence\, and of course\, fun to boast one of the most successful Nordic p
 rograms in the world. The program’s unprecedented national and internati
 onal success has produced 16 Olympians in the past seven Winter Olympics
 . Over 35 SMS Nordic athletes have made the U.S. World Junior Team\, and
  25 have made the U.S. National Team. Each Summer\, SMS Nordic hosts two
  summer camps for young skiers filled on a first-come\, first-served bas
 is \nAugust 3-6\, 2026 \nRegistration is open.\n\nImported from: https:/
 /adapt2play.org/events/22557-sms-bkl-summer-camp
URL:https://nensa.net/event/sms-bkl-summer-camp/
SUMMARY:SMS BKL Summer Camp
LOCATION:Location:: 6 World Cup Way\, Stratton Mnt Vermont 05155 
SEQUENCE:10
END:VEVENT
END:VCALENDAR
