BEGIN:VCALENDAR
PRODID;X-RICAL-TZSOURCE=TZINFO:-//Calagator//EN
CALSCALE:GREGORIAN
X-WR-CALNAME:Adapt2Play
METHOD:PUBLISH
VERSION:2.0
BEGIN:VEVENT
CREATED;VALUE=DATE-TIME:20260403T000226Z
DTEND;VALUE=DATE-TIME:20260720T010000Z
DTSTART;VALUE=DATE-TIME:20260720T000000Z
DTSTAMP;VALUE=DATE-TIME:20260403T000226Z
LAST-MODIFIED;VALUE=DATE-TIME:20260403T000226Z
UID:https://adapt2play.org/events/22556-sleepy-hollow-bkl-camp
DESCRIPTION:More information coming soon!\n\nImported from: https://adapt
 2play.org/events/22556-sleepy-hollow-bkl-camp
URL:https://nensa.net/event/sleepy-hollow-bkl-camp/
SUMMARY:Sleepy Hollow BKL Camp
LOCATION:Location:: 427 Ski Lodge Drive\, Huntington Vermont 05462 
SEQUENCE:1
END:VEVENT
END:VCALENDAR
