BEGIN:VCALENDAR
PRODID;X-RICAL-TZSOURCE=TZINFO:-//Calagator//EN
CALSCALE:GREGORIAN
X-WR-CALNAME:Adapt2Play
METHOD:PUBLISH
VERSION:2.0
BEGIN:VEVENT
CREATED;VALUE=DATE-TIME:20260402T000337Z
DTEND;VALUE=DATE-TIME:20260402T150000Z
DTSTART;VALUE=DATE-TIME:20260402T140000Z
DTSTAMP;VALUE=DATE-TIME:20260402T000337Z
LAST-MODIFIED;VALUE=DATE-TIME:20260402T000337Z
UID:https://adapt2play.org/events/22538-tiger-bond-thursday-sailing-veter
 ans-and-first-responders
DESCRIPTION:April 2\, 2026 10:00am EDT\nCalendar: Veterans and First Resp
 onders\nName: Tiger Bond\nPhone: (561) 929-8034\nEmail: tigerben65@gmail
 .com\n\nLocation\n============\nTeam Paradise Sailing\, 2476 S. Bayshore
  Dr. Miami\, FL 33133\n\n\nTerms &amp\; Conditions for Veterans and Firs
 t Responders \n============\nHow did you find us: \n\nI have read and ag
 ree to the terms above: \n\nAre you a Diasbled Veteran?: \n\nAre you a V
 eteran: \n\nAre you a First Responder?: \n\n\nChange Appointment:\nhttps
 ://teamparadise.squarespace.com/config/scheduling/appointments/view/1680
 932904\n\n\nPlease use Acuity Scheduling to cancel or reschedule this ap
 pointment.\n(created by Acuity Scheduling)\nAcuityID=1680932904\n\n\nImp
 orted from: https://adapt2play.org/events/22538-tiger-bond-thursday-sail
 ing-veterans-and-first-responders
SUMMARY:Tiger Bond: Thursday Sailing (Veterans and First Responders)
LOCATION:Location:: 2476 South Bayshore Drive\, Miami Florida 33133 
SEQUENCE:1
END:VEVENT
END:VCALENDAR
