BEGIN:VCALENDAR
PRODID;X-RICAL-TZSOURCE=TZINFO:-//Calagator//EN
CALSCALE:GREGORIAN
X-WR-CALNAME:Adapt2Play
METHOD:PUBLISH
VERSION:2.0
BEGIN:VEVENT
CREATED;VALUE=DATE-TIME:20260402T000317Z
DTEND;VALUE=DATE-TIME:20260417T100000Z
DTSTART;VALUE=DATE-TIME:20260417T090000Z
DTSTAMP;VALUE=DATE-TIME:20260402T000317Z
LAST-MODIFIED;VALUE=DATE-TIME:20260403T000303Z
UID:https://adapt2play.org/events/22537-carss-virtual-training
DESCRIPTION:CARSS Virtual Training\n\n\n\nCARSS Live Training – April 17t
 h from 9 AM – 4 PM \nThe BlazeSports Institute is excited to offer our l
 ive virtual CARSS training—a professional development opportunity to gro
 w your knowledge and skills in adaptive sports and recreation. Upon comp
 letion\, participants will earn the Certified Adaptive Recreation and Sp
 orts Specialist (CARSS)™ certification. \nThe CARSS curriculum covers es
 sential areas including the history of adaptive sports\, disability awar
 eness\, program planning\, risk management\, partnership building\, recr
 uitment\, promotion\, and the use of adaptive equipment and facilities. 
 This training is designed to equip you to better serve children\, youth\
 , adults\, and veterans with physical disabilities. \n\nRegister Here\n\
 nImported from: https://adapt2play.org/events/22537-carss-virtual-traini
 ng
URL:https://blazesports.org/event/carss-virtual-training/
SUMMARY:CARSS Virtual Training
LOCATION:Location:: Gabon\,    
SEQUENCE:2
END:VEVENT
END:VCALENDAR
