BEGIN:VCALENDAR
PRODID;X-RICAL-TZSOURCE=TZINFO:-//Calagator//EN
CALSCALE:GREGORIAN
X-WR-CALNAME:Adapt2Play
METHOD:PUBLISH
VERSION:2.0
BEGIN:VEVENT
CREATED;VALUE=DATE-TIME:20260402T000317Z
DTEND;VALUE=DATE-TIME:20260416T200000Z
DTSTART;VALUE=DATE-TIME:20260416T190000Z
DTSTAMP;VALUE=DATE-TIME:20260402T000317Z
LAST-MODIFIED;VALUE=DATE-TIME:20260411T000316Z
UID:https://adapt2play.org/events/22536-veteran-tennis
DESCRIPTION:Veteran Tennis\n\n\n\n\n\nBlazeSports is excited to relaunch 
 our Veteran Tennis Program for Spring 2026. The BlazeSports Veteran Tenn
 is Program is a weekly clinic designed to introduce veterans to the fund
 amentals of the game. This program provides a welcoming and supportive e
 nvironment where participants can develop their skills\, stay active\, a
 nd connect with fellow veterans. \nOpen to all skill levels\, the progra
 m caters to both beginners looking to learn the basics and experienced p
 layers seeking to refine their technique. Tennis is a great sport for bu
 ilding fitness\, coordination\, and camaraderie within the veteran commu
 nity. \nJoin us for an engaging and rewarding tennis experience! \n\n………
 …………………. \n\nAthlete eligibility: Ages 6 – 22 years old. Primary diagnos
 is as a physical disability including but not limited to: Spinal Cord In
 jury\, Cerebral Palsy\, Spina Bifida\, Amputation\, Limb Difference\, Vi
 sual Impairment\, Dwarfism\, Traumatic Brain Injury\, etc. \nBlazeSports
  has an equipment loan program for our youth members\, if your athlete n
 eeds a sportschair or tennis racquet or if you have any questions please
  email erobinson@blazesports.org. \nSeason Start: Thursday\, April 2nd\,
  2026 \nSW ATL Practice Location\, Thursdays from 7pm – 8pm\nPeachtree C
 ity Tennis Center\n10 Planterra Way\nPeachtree City\, GA 30269 \nRegiste
 r here. \nFor more information or questions\, email: veterans@blazesport
 s.org.\n\nImported from: https://adapt2play.org/events/22536-veteran-ten
 nis
URL:https://blazesports.org/event/veteran-tennis/2026-04-16/
SUMMARY:Veteran Tennis
LOCATION:Location:: 10 Planterra Way\, Peachtree City Georgia 30269 
SEQUENCE:10
END:VEVENT
END:VCALENDAR
