BEGIN:VCALENDAR
PRODID;X-RICAL-TZSOURCE=TZINFO:-//Calagator//EN
CALSCALE:GREGORIAN
X-WR-CALNAME:Adapt2Play
METHOD:PUBLISH
VERSION:2.0
BEGIN:VEVENT
CREATED;VALUE=DATE-TIME:20260402T000317Z
DTEND;VALUE=DATE-TIME:20260416T190000Z
DTSTART;VALUE=DATE-TIME:20260416T180000Z
DTSTAMP;VALUE=DATE-TIME:20260402T000317Z
LAST-MODIFIED;VALUE=DATE-TIME:20260403T000303Z
UID:https://adapt2play.org/events/22535-wheelchair-tennis-northside
DESCRIPTION:Spring Wheelchair Tennis 2026\n\n\n\n\n\nBlazeSports is excit
 ed to kick off wheelchair tennis for Spring 2026. The BlazeSports Wheelc
 hair Tennis Program is open for athletes of all skill levels\, recreatio
 nal or competitive. Our coaches have years of experience with wheelchair
  tennis and will work with our athletes to develop their skills such as:
  chair maneuvering\, swing technique\, rules\, positioning\, and more. T
 his season the BlazeSports Tennis Team will have the opportunity to part
 icipate in USTA Junior Division Tournaments as well as observe elite lev
 els of adult league play. \n\nWe’re excited to announce the expansion of
  Wheelchair Tennis to South Atlanta\, with weekly southside practices to
  increase access for athletes across Metro Atlanta. Practices will now b
 e available on both the north and south sides. \nWe are thrilled for thi
 s expansion\, come out and serve up some fun! \n…………………………. \n\nAthlete 
 eligibility: Ages 6 – 22 years old. Primary diagnosis as a physical disa
 bility including but not limited to: Spinal Cord Injury\, Cerebral Palsy
 \, Spina Bifida\, Amputation\, Limb Difference\, Visual Impairment\, Dwa
 rfism\, Traumatic Brain Injury\, etc. \nBlazeSports has an equipment loa
 n program for our youth members\, if your athlete needs a sportschair or
  tennis racquet or if you have any questions please email erobinson@blaz
 esports.org. \nSeason Start: Thursday. April 2nd \nNorthside Practice Ti
 me: 6pm – 8pm Thursday evenings \nFor more information or questions\, em
 ail: erobinson@blazesports.org\n\nImported from: https://adapt2play.org/
 events/22535-wheelchair-tennis-northside
URL:https://blazesports.org/event/wheelchair-tennis/2026-04-16/
SUMMARY:Wheelchair Tennis Northside
LOCATION:Location:: 6224 Jimmy Carter Boulevard\, Norcross Georgia 30071 
SEQUENCE:2
END:VEVENT
END:VCALENDAR
