BEGIN:VCALENDAR
PRODID;X-RICAL-TZSOURCE=TZINFO:-//Calagator//EN
CALSCALE:GREGORIAN
X-WR-CALNAME:Adapt2Play
METHOD:PUBLISH
VERSION:2.0
BEGIN:VEVENT
CREATED;VALUE=DATE-TIME:20260402T000243Z
DTEND;VALUE=DATE-TIME:20260407T210000Z
DTSTART;VALUE=DATE-TIME:20260407T200000Z
DTSTAMP;VALUE=DATE-TIME:20260402T000243Z
LAST-MODIFIED;VALUE=DATE-TIME:20260402T000243Z
UID:https://adapt2play.org/events/22526-agency-hiking
DESCRIPTION:\n\nImported from: https://adapt2play.org/events/22526-agency
 -hiking
SUMMARY:Agency  Hiking
LOCATION:Location:: South Main Street\, Logan Utah 84321 
SEQUENCE:1
END:VEVENT
END:VCALENDAR
