BEGIN:VCALENDAR
PRODID;X-RICAL-TZSOURCE=TZINFO:-//Calagator//EN
CALSCALE:GREGORIAN
X-WR-CALNAME:Adapt2Play
METHOD:PUBLISH
VERSION:2.0
BEGIN:VEVENT
CREATED;VALUE=DATE-TIME:20260402T000209Z
DTEND;VALUE=DATE-TIME:20260402T150000Z
DTSTART;VALUE=DATE-TIME:20260402T140000Z
DTSTAMP;VALUE=DATE-TIME:20260402T000209Z
LAST-MODIFIED;VALUE=DATE-TIME:20260402T000209Z
UID:https://adapt2play.org/events/22523-magnus-liljedahl-thursday-sailing
 -veterans-and-first-responders
DESCRIPTION:April 2\, 2026 10:00am EDT\nCalendar: Veterans and First Resp
 onders\nName: Magnus Liljedahl\nPhone: (305) 776-8778\nEmail: magnus@tea
 mparadise.org\n\nLocation\n============\nTeam Paradise Sailing\, 2476 S.
  Bayshore Dr. Miami\, FL 33133\n\n\nTerms &amp\; Conditions for Veterans
  and First Responders \n============\nHow did you find us: \n\nI have re
 ad and agree to the terms above: \n\nAre you a Diasbled Veteran?: \n\nAr
 e you a Veteran: \n\nAre you a First Responder?: \n\n\nChange Appointmen
 t:\nhttps://teamparadise.squarespace.com/config/scheduling/appointments/
 view/1680935685\n\n\nPlease use Acuity Scheduling to cancel or reschedul
 e this appointment.\n(created by Acuity Scheduling)\nAcuityID=1680935685
 \n\n\nImported from: https://adapt2play.org/events/22523-magnus-liljedah
 l-thursday-sailing-veterans-and-first-responders
SUMMARY:Magnus Liljedahl: Thursday Sailing (Veterans and First Responders
 )
LOCATION:Location:: 2476 South Bayshore Drive\, Miami Florida 33133 
SEQUENCE:1
END:VEVENT
END:VCALENDAR
