BEGIN:VCALENDAR
PRODID;X-RICAL-TZSOURCE=TZINFO:-//Calagator//EN
CALSCALE:GREGORIAN
X-WR-CALNAME:Adapt2Play
METHOD:PUBLISH
VERSION:2.0
BEGIN:VEVENT
CREATED;VALUE=DATE-TIME:20260402T000139Z
DTEND;VALUE=DATE-TIME:20260421T160000Z
DTSTART;VALUE=DATE-TIME:20260421T150000Z
DTSTAMP;VALUE=DATE-TIME:20260402T000139Z
LAST-MODIFIED;VALUE=DATE-TIME:20260409T000131Z
UID:https://adapt2play.org/events/22520-virtual-book-club-amy-purdy
DESCRIPTION:Atlanta 1996 — The Centennial Games\n				\n				\n					\n		\n	
 				\n		\n				\n						\n					\n			\n						\n				\n									This next ses
 sion turns the spotlight on the Atlanta 1996 Centennial Games — a landma
 rk moment marking 100 years of the modern Olympic movement. From record-
 breaking performances to unforgettable cultural moments\, join us for a 
 conversation celebrating the legacy of one of the most iconic Games in h
 istory. Moderated by Lindsay Huban\, USOPM’s Chief Content &amp\; Integr
 ation Officer.\n\nImported from: https://adapt2play.org/events/22520-vir
 tual-book-club-amy-purdy
URL:https://usopm.org/event/bookclubamypurdy/
SUMMARY:Virtual Book Club: Amy Purdy
SEQUENCE:2
END:VEVENT
END:VCALENDAR
