BEGIN:VCALENDAR
PRODID;X-RICAL-TZSOURCE=TZINFO:-//Calagator//EN
CALSCALE:GREGORIAN
X-WR-CALNAME:Adapt2Play
METHOD:PUBLISH
VERSION:2.0
BEGIN:VEVENT
CREATED;VALUE=DATE-TIME:20260402T000124Z
DTEND;VALUE=DATE-TIME:20260426T180000Z
DTSTART;VALUE=DATE-TIME:20260426T170000Z
DTSTAMP;VALUE=DATE-TIME:20260402T000124Z
LAST-MODIFIED;VALUE=DATE-TIME:20260416T000129Z
UID:https://adapt2play.org/events/22515-swim-lessons-quincy
DESCRIPTION:Held in partnership with the Hale Family YMCA and Simmons Uni
 versity \n\n\n\n\nAdaptive Sports New England’s swim lesson program is h
 eld in partnership with the Hale Family YMCA in Quincy and Simmons Unive
 rsity. The lessons are overseen by Paralympian Michael Prout\, and the l
 essons are taught by YMCA professionals and Simmons swimmers. These less
 ons are great for children through their one on one student to teacher r
 atio\, where swimming skills can be developed and improved. \nAs with al
 l Adaptive Sports New England programs\, this program is specifically de
 signed for those with visual or mobility impairments. Participating chil
 dren should demonstrate typical cognitive and behavioral development. Wh
 ile we believe that all children deserve and can benefit from learning t
 o swim\, these programs are not designed to provide the special support 
 that children on the autism spectrum or children with intellectual impai
 rments deserve.  \nWe expect this program to fill up. If you would like 
 to express interest or reserve a spot\, please fill out the interest for
 m below. For ages 6 – 18. \n\nImported from: https://adapt2play.org/even
 ts/22515-swim-lessons-quincy
URL:https://adaptivesportsne.org/event/swim-lessons-quincy-2/2026-04-26/
SUMMARY:Swim Lessons (Quincy)
LOCATION:Location:: 79 Coddington Street\, Quincy Massachusetts 02169 
SEQUENCE:15
END:VEVENT
END:VCALENDAR
