BEGIN:VCALENDAR
PRODID;X-RICAL-TZSOURCE=TZINFO:-//Calagator//EN
CALSCALE:GREGORIAN
X-WR-CALNAME:Adapt2Play
METHOD:PUBLISH
VERSION:2.0
BEGIN:VEVENT
CREATED;VALUE=DATE-TIME:20260401T000354Z
DTEND;VALUE=DATE-TIME:20260402T150000Z
DTSTART;VALUE=DATE-TIME:20260402T140000Z
DTSTAMP;VALUE=DATE-TIME:20260401T000354Z
LAST-MODIFIED;VALUE=DATE-TIME:20260401T000354Z
UID:https://adapt2play.org/events/22508-vanessa-herard-thursday-sailing-v
 eterans-and-first-responders
DESCRIPTION:April 2\, 2026 10:00am EDT\nCalendar: Veterans and First Resp
 onders\nName: Vanessa Herard\nPhone: +19546849341\nEmail: vanessaherard8
 1@gmail.com\n\nLocation\n============\nTeam Paradise Sailing\, 2476 S. B
 ayshore Dr. Miami\, FL 33133\n\n\nTerms &amp\; Conditions for Veterans a
 nd First Responders \n============\nI have read and agree to the terms a
 bove: yes\n\nHow did you find us: VA Hospital\n\nAre you a Diasbled Vete
 ran?: yes\n\nAre you a Veteran: yes\n\nAre you a First Responder?: no\n\
 n\nChange Appointment:\nhttps://teamparadise.squarespace.com/config/sche
 duling/appointments/view/1679976569\n\n\nPlease use Acuity Scheduling to
  cancel or reschedule this appointment.\n(created by Acuity Scheduling)\
 nAcuityID=1679976569\n\n\nImported from: https://adapt2play.org/events/2
 2508-vanessa-herard-thursday-sailing-veterans-and-first-responders
SUMMARY:Vanessa Herard: Thursday Sailing (Veterans and First Responders)
LOCATION:Location:: 2476 South Bayshore Drive\, Miami Florida 33133 
SEQUENCE:1
END:VEVENT
END:VCALENDAR
