BEGIN:VCALENDAR
PRODID;X-RICAL-TZSOURCE=TZINFO:-//Calagator//EN
CALSCALE:GREGORIAN
X-WR-CALNAME:Adapt2Play
METHOD:PUBLISH
VERSION:2.0
BEGIN:VEVENT
CREATED;VALUE=DATE-TIME:20260401T000304Z
DTEND;VALUE=DATE-TIME:20260421T170000Z
DTSTART;VALUE=DATE-TIME:20260421T160000Z
DTSTAMP;VALUE=DATE-TIME:20260401T000304Z
LAST-MODIFIED;VALUE=DATE-TIME:20260401T000304Z
UID:https://adapt2play.org/events/22499-school-field-day
DESCRIPTION:\n\nImported from: https://adapt2play.org/events/22499-school
 -field-day
SUMMARY:School Field Day
LOCATION:Location:: 220 East 2850 North\, North Logan Utah 84341 
SEQUENCE:1
END:VEVENT
END:VCALENDAR
