BEGIN:VCALENDAR
PRODID;X-RICAL-TZSOURCE=TZINFO:-//Calagator//EN
CALSCALE:GREGORIAN
X-WR-CALNAME:Adapt2Play
METHOD:PUBLISH
VERSION:2.0
BEGIN:VEVENT
CREATED;VALUE=DATE-TIME:20260401T000304Z
DTEND;VALUE=DATE-TIME:20260528T173000Z
DTSTART;VALUE=DATE-TIME:20260528T163000Z
DTSTAMP;VALUE=DATE-TIME:20260401T000304Z
LAST-MODIFIED;VALUE=DATE-TIME:20260401T000304Z
UID:https://adapt2play.org/events/22498-agency-canoe
DESCRIPTION:\n\nImported from: https://adapt2play.org/events/22498-agency
 -canoe
SUMMARY:Agency Canoe
LOCATION:Location:: Reservoir Street\, Helper Utah 84526 
SEQUENCE:1
END:VEVENT
END:VCALENDAR
