BEGIN:VCALENDAR
PRODID;X-RICAL-TZSOURCE=TZINFO:-//Calagator//EN
CALSCALE:GREGORIAN
X-WR-CALNAME:Adapt2Play
METHOD:PUBLISH
VERSION:2.0
BEGIN:VEVENT
CREATED;VALUE=DATE-TIME:20260401T000304Z
DTEND;VALUE=DATE-TIME:20260505T193000Z
DTSTART;VALUE=DATE-TIME:20260505T183000Z
DTSTAMP;VALUE=DATE-TIME:20260401T000304Z
LAST-MODIFIED;VALUE=DATE-TIME:20260411T000239Z
UID:https://adapt2play.org/events/22497-school-elementary-canoe
DESCRIPTION:\n\nImported from: https://adapt2play.org/events/22497-school
 -elementary-canoe
SUMMARY:School Elementary Canoe
LOCATION:Location:: 1647-1700 East Canyon Road\, Logan Utah 84321 
SEQUENCE:2
END:VEVENT
END:VCALENDAR
