BEGIN:VCALENDAR
PRODID;X-RICAL-TZSOURCE=TZINFO:-//Calagator//EN
CALSCALE:GREGORIAN
X-WR-CALNAME:Adapt2Play
METHOD:PUBLISH
VERSION:2.0
BEGIN:VEVENT
CREATED;VALUE=DATE-TIME:20260401T000303Z
DTEND;VALUE=DATE-TIME:20260522T153000Z
DTSTART;VALUE=DATE-TIME:20260522T143000Z
DTSTAMP;VALUE=DATE-TIME:20260401T000303Z
LAST-MODIFIED;VALUE=DATE-TIME:20260401T000303Z
UID:https://adapt2play.org/events/22496-school-canoe
DESCRIPTION:\n\nImported from: https://adapt2play.org/events/22496-school
 -canoe
SUMMARY:School Canoe
LOCATION:Location:: Marsh Road\, Butler Alabama 36904 
SEQUENCE:1
END:VEVENT
END:VCALENDAR
