BEGIN:VCALENDAR
PRODID;X-RICAL-TZSOURCE=TZINFO:-//Calagator//EN
CALSCALE:GREGORIAN
X-WR-CALNAME:Adapt2Play
METHOD:PUBLISH
VERSION:2.0
BEGIN:VEVENT
CREATED;VALUE=DATE-TIME:20260401T000303Z
DTEND;VALUE=DATE-TIME:20260424T160000Z
DTSTART;VALUE=DATE-TIME:20260424T150000Z
DTSTAMP;VALUE=DATE-TIME:20260401T000303Z
LAST-MODIFIED;VALUE=DATE-TIME:20260421T000231Z
UID:https://adapt2play.org/events/22495-school-bike-and-ice
DESCRIPTION:\n\nImported from: https://adapt2play.org/events/22495-school
 -bike-and-ice
SUMMARY:School Bike and Ice
LOCATION:Location:: 1600 East 1350 North\, Logan Utah 84341 
SEQUENCE:3
END:VEVENT
END:VCALENDAR
