BEGIN:VCALENDAR
PRODID;X-RICAL-TZSOURCE=TZINFO:-//Calagator//EN
CALSCALE:GREGORIAN
X-WR-CALNAME:Adapt2Play
METHOD:PUBLISH
VERSION:2.0
BEGIN:VEVENT
CREATED;VALUE=DATE-TIME:20260401T000259Z
DTEND;VALUE=DATE-TIME:20260530T110000Z
DTSTART;VALUE=DATE-TIME:20260530T100000Z
DTSTAMP;VALUE=DATE-TIME:20260401T000259Z
LAST-MODIFIED;VALUE=DATE-TIME:20260401T000259Z
UID:https://adapt2play.org/events/22494-wheelchair-football-team-tryouts-
 practice
DESCRIPTION:Take your game to the next level on May 30th at our Wheelchai
 r Football Team Tryouts &amp\; Practice. This session is designed for at
 hletes ready to compete\, improve their skills\, and become part of a gr
 owing team. Whether you’re aiming to make the roster or just want to tra
 in at a higher level\, this is your opportunity to get in the game and s
 howcase your ability. \n \n\nImported from: https://adapt2play.org/event
 s/22494-wheelchair-football-team-tryouts-practice
URL:https://smclf.org/event/wheelchair-football-team-tryouts-practice/
SUMMARY:Wheelchair Football Team Tryouts & Practice
LOCATION:Location:: 3100 Tifton Street\, Kenner Louisiana 70065 
SEQUENCE:1
END:VEVENT
END:VCALENDAR
