BEGIN:VCALENDAR
PRODID;X-RICAL-TZSOURCE=TZINFO:-//Calagator//EN
CALSCALE:GREGORIAN
X-WR-CALNAME:Adapt2Play
METHOD:PUBLISH
VERSION:2.0
BEGIN:VEVENT
CREATED;VALUE=DATE-TIME:20260401T000259Z
DTEND;VALUE=DATE-TIME:20260523T110000Z
DTSTART;VALUE=DATE-TIME:20260523T100000Z
DTSTAMP;VALUE=DATE-TIME:20260401T000259Z
LAST-MODIFIED;VALUE=DATE-TIME:20260401T000259Z
UID:https://adapt2play.org/events/22493-adaptive-sports-clinic-youth-adul
 ts-veterans-tennis-basketball-pickleball
DESCRIPTION:Join us on May 23rd for an inclusive Adaptive Sports Clinic d
 esigned for youth\, adults\, and veterans of all abilities. Experience t
 ennis\, basketball\, and pickleball in a supportive\, high-energy enviro
 nment focused on skill-building\, confidence\, and community connection.
  All experience levels are welcome—come get active and be part of the mo
 vement. \n \n\nImported from: https://adapt2play.org/events/22493-adapti
 ve-sports-clinic-youth-adults-veterans-tennis-basketball-pickleball
URL:https://smclf.org/event/adaptive-sports-clinic-youth-adults-veterans-
 tennis-basketball-pickleball-2/
SUMMARY:Adaptive Sports Clinic – Youth\, Adults & Veterans (Tennis\, Bask
 etball\, Pickleball)
LOCATION:Location:: 3100 Tifton Street\, Kenner Louisiana 70065 
SEQUENCE:1
END:VEVENT
END:VCALENDAR
