BEGIN:VCALENDAR
PRODID;X-RICAL-TZSOURCE=TZINFO:-//Calagator//EN
CALSCALE:GREGORIAN
X-WR-CALNAME:Adapt2Play
METHOD:PUBLISH
VERSION:2.0
BEGIN:VEVENT
CREATED;VALUE=DATE-TIME:20260401T000259Z
DTEND;VALUE=DATE-TIME:20260514T110000Z
DTSTART;VALUE=DATE-TIME:20260514T100000Z
DTSTAMP;VALUE=DATE-TIME:20260401T000259Z
LAST-MODIFIED;VALUE=DATE-TIME:20260401T000259Z
UID:https://adapt2play.org/events/22492-field-of-hope-adaptive-physical-e
 ducation-school-event
DESCRIPTION:Join us on May 14th for the Field of Hope Adaptive Physical E
 ducation School Event—an engaging\, inclusive day bringing adaptive spor
 ts and movement to students of all abilities. Through guided activities\
 , teamwork\, and hands-on participation\, students will build confidence
 \, develop new skills\, and experience the power of inclusive play in a 
 supportive school setting. \n \n\nImported from: https://adapt2play.org/
 events/22492-field-of-hope-adaptive-physical-education-school-event
URL:https://smclf.org/event/field-of-hope-adaptive-physical-education-sch
 ool-event-2/
SUMMARY:Field of Hope Adaptive Physical Education School Event
LOCATION:Location:: 3100 Tifton Street\, Kenner Louisiana 70065 
SEQUENCE:1
END:VEVENT
END:VCALENDAR
