BEGIN:VCALENDAR
PRODID;X-RICAL-TZSOURCE=TZINFO:-//Calagator//EN
CALSCALE:GREGORIAN
X-WR-CALNAME:Adapt2Play
METHOD:PUBLISH
VERSION:2.0
BEGIN:VEVENT
CREATED;VALUE=DATE-TIME:20260401T000259Z
DTEND;VALUE=DATE-TIME:20260423T110000Z
DTSTART;VALUE=DATE-TIME:20260423T100000Z
DTSTAMP;VALUE=DATE-TIME:20260401T000259Z
LAST-MODIFIED;VALUE=DATE-TIME:20260401T000259Z
UID:https://adapt2play.org/events/22490-field-of-hope-adaptive-physical-e
 ducation-school-event
DESCRIPTION:Join us on April 23rd for the Field of Hope Adaptive Physical
  Education School Event—an empowering day designed to bring inclusive sp
 orts and movement to students of all abilities. Through adaptive activit
 ies\, teamwork\, and guided instruction\, students will build confidence
 \, develop skills\, and experience the joy of participation in a support
 ive school environment. \n \n\nImported from: https://adapt2play.org/eve
 nts/22490-field-of-hope-adaptive-physical-education-school-event
URL:https://smclf.org/event/field-of-hope-adaptive-physical-education-sch
 ool-event/
SUMMARY:Field of Hope Adaptive Physical Education School Event
LOCATION:Location:: 3100 Tifton Street\, Kenner Louisiana 70065 
SEQUENCE:1
END:VEVENT
END:VCALENDAR
