BEGIN:VCALENDAR
PRODID;X-RICAL-TZSOURCE=TZINFO:-//Calagator//EN
CALSCALE:GREGORIAN
X-WR-CALNAME:Adapt2Play
METHOD:PUBLISH
VERSION:2.0
BEGIN:VEVENT
CREATED;VALUE=DATE-TIME:20260401T000259Z
DTEND;VALUE=DATE-TIME:20260404T110000Z
DTSTART;VALUE=DATE-TIME:20260404T100000Z
DTSTAMP;VALUE=DATE-TIME:20260401T000259Z
LAST-MODIFIED;VALUE=DATE-TIME:20260401T000259Z
UID:https://adapt2play.org/events/22488-adaptive-sports-clinic-youth-adul
 ts-veterans-tennis-basketball-pickleball
DESCRIPTION:Join us on April 4th for an inclusive Adaptive Sports Clinic 
 designed for youth\, adults\, and veterans of all abilities. Experience 
 tennis\, basketball\, and pickleball in a supportive\, high-energy envir
 onment focused on skill-building\, confidence\, and community connection
 . No experience needed—just show up ready to move and have fun. \n \n\nI
 mported from: https://adapt2play.org/events/22488-adaptive-sports-clinic
 -youth-adults-veterans-tennis-basketball-pickleball
URL:https://smclf.org/event/adaptive-sports-clinic-youth-adults-veterans-
 tennis-basketball-pickleball/
SUMMARY:Adaptive Sports Clinic – Youth\, Adults & Veterans (Tennis\, Bask
 etball\, Pickleball)
LOCATION:Location:: 3100 Tifton Street\, Kenner Louisiana 70065 
SEQUENCE:1
END:VEVENT
END:VCALENDAR
