BEGIN:VCALENDAR
PRODID;X-RICAL-TZSOURCE=TZINFO:-//Calagator//EN
CALSCALE:GREGORIAN
X-WR-CALNAME:Adapt2Play
METHOD:PUBLISH
VERSION:2.0
BEGIN:VEVENT
CREATED;VALUE=DATE-TIME:20260401T000146Z
DTEND;VALUE=DATE-TIME:20260420T190000Z
DTSTART;VALUE=DATE-TIME:20260420T180000Z
DTSTAMP;VALUE=DATE-TIME:20260401T000146Z
LAST-MODIFIED;VALUE=DATE-TIME:20260409T000131Z
UID:https://adapt2play.org/events/22469-victory-on-ice-tour
DESCRIPTION:Atlanta 1996 — The Centennial Games\n				\n				\n					\n		\n	
 				\n		\n				\n						\n					\n			\n						\n				\n									This next ses
 sion turns the spotlight on the Atlanta 1996 Centennial Games — a landma
 rk moment marking 100 years of the modern Olympic movement. From record-
 breaking performances to unforgettable cultural moments\, join us for a 
 conversation celebrating the legacy of one of the most iconic Games in h
 istory. Moderated by Lindsay Huban\, USOPM’s Chief Content &amp\; Integr
 ation Officer.\n\nImported from: https://adapt2play.org/events/22469-vic
 tory-on-ice-tour
URL:https://usopm.org/event/victory-on-ice-tour/2026-04-20/
SUMMARY:Victory on Ice Tour
LOCATION:Location:: 200 South Sierra Madre Street\, Colorado Springs Colo
 rado 80903 
SEQUENCE:3
END:VEVENT
END:VCALENDAR
