BEGIN:VCALENDAR
PRODID;X-RICAL-TZSOURCE=TZINFO:-//Calagator//EN
CALSCALE:GREGORIAN
X-WR-CALNAME:Adapt2Play
METHOD:PUBLISH
VERSION:2.0
BEGIN:VEVENT
CREATED;VALUE=DATE-TIME:20260401T000146Z
DTEND;VALUE=DATE-TIME:20260405T190000Z
DTSTART;VALUE=DATE-TIME:20260405T180000Z
DTSTAMP;VALUE=DATE-TIME:20260401T000146Z
LAST-MODIFIED;VALUE=DATE-TIME:20260401T000146Z
UID:https://adapt2play.org/events/22458-victory-on-ice-tour
DESCRIPTION:The Museum will be closed for Easter.\n\nImported from: https
 ://adapt2play.org/events/22458-victory-on-ice-tour
URL:https://usopm.org/event/victory-on-ice-tour/2026-04-05/
SUMMARY:Victory on Ice Tour
LOCATION:Location:: 200 South Sierra Madre Street\, Colorado Springs Colo
 rado 80903 
SEQUENCE:1
END:VEVENT
END:VCALENDAR
