BEGIN:VCALENDAR
PRODID;X-RICAL-TZSOURCE=TZINFO:-//Calagator//EN
CALSCALE:GREGORIAN
X-WR-CALNAME:Adapt2Play
METHOD:PUBLISH
VERSION:2.0
BEGIN:VEVENT
CREATED;VALUE=DATE-TIME:20260401T000146Z
DTEND;VALUE=DATE-TIME:20260403T190000Z
DTSTART;VALUE=DATE-TIME:20260403T180000Z
DTSTAMP;VALUE=DATE-TIME:20260401T000146Z
LAST-MODIFIED;VALUE=DATE-TIME:20260402T000138Z
UID:https://adapt2play.org/events/22456-victory-on-ice-tour
DESCRIPTION:Join us for a candid conversation with Amy Purdy\, Paralympic
  silver medalist in Para snowboarding\, as she reflects on the experienc
 es behind two powerful books: On My Own Two Feet\, her story of resilien
 ce and reinvention\, and her latest\, Bounce Forward: 21 Tools to Live a
  Life Beyond Limits. Kara Winger\, four-time Olympic javelin thrower\, w
 ill moderate the conversation. This is a rare chance to go beyond the po
 dium — to connect with an athlete who has turned adversity into action a
 nd competition into purpose. Reserve your spot today. It’s free.\n\nImpo
 rted from: https://adapt2play.org/events/22456-victory-on-ice-tour
URL:https://usopm.org/event/victory-on-ice-tour/2026-04-03/
SUMMARY:Victory on Ice Tour
LOCATION:Location:: 200 South Sierra Madre Street\, Colorado Springs Colo
 rado 80903 
SEQUENCE:2
END:VEVENT
END:VCALENDAR
