BEGIN:VCALENDAR
PRODID;X-RICAL-TZSOURCE=TZINFO:-//Calagator//EN
CALSCALE:GREGORIAN
X-WR-CALNAME:Adapt2Play
METHOD:PUBLISH
VERSION:2.0
BEGIN:VEVENT
CREATED;VALUE=DATE-TIME:20260401T000023Z
DTEND;VALUE=DATE-TIME:20260508T120000Z
DTSTART;VALUE=DATE-TIME:20260508T110000Z
DTSTAMP;VALUE=DATE-TIME:20260401T000023Z
LAST-MODIFIED;VALUE=DATE-TIME:20260401T000023Z
UID:https://adapt2play.org/events/22447-handcycles-bikes-at-sunrise-group
 -ride
DESCRIPTION:Join us for a scenic group ride every Wednesday and Friday at
  the Seabreeze Amphitheater in Carlin Park (West Side)\, Jupiter\, FL! A
 ll levels and abilities are welcome\, including both handcyclists and cy
 clists. We have a limited number of handcycles available—please reserve 
 yours with Jacqui at least two days in advance. \nArrival Time: 7:00 AM\
 nPedals Up: 7:30 AM \nWhat to Bring: \nSGU Jersey \nBike Helmet \nSafety
  Flag (for handcycles) \nSpare Tube \nHydration/Electrolytes \nAnything 
 else you may need (e.g.\, sunscreen\, sunglasses) \nEnjoy the camaraderi
 e and beautiful ocean views as we ride 10 miles together along Jupiter B
 each. Please arrive prepared and ready to ride!\nCheck our Event Calenda
 r for updates and details. \nQuestions or handcycle reservations? \nCont
 act Jacqui Kapinowski\n(561) 831-8887 (jacqui@shiftinggearsunited.org) \
 n\n\n        \n            \n        \n        \n            \n         
        Multi-Sports Registration Form\n            \n            \n     
            \n                                        \n                 
    \n                    \n                        \n                   
          Personal Information\n                            \n           
              \n                    \n\n                    \n           
              \n                            First Name *\n               
              \n                        \n                        \n     
                        Last Name *\n                            \n      
                   \n                    \n\n                    \n      
                   \n                            Address *\n             
                \n                        \n                    \n\n     
                \n                        \n                            C
 ity *\n                            \n                        \n         
                \n                            State *\n                  
           \n                                Select State\n              
                                                                         
               Alabama\n                                                 
                    Alaska\n                                             
                        Arizona\n                                        
                             Arkansas\n                                  
                                   California\n                          
                                           Colorado\n                    
                                                 Connecticut\n           
                                                          Delaware\n     
                                                                Florida\n
                                                                     Geor
 gia\n                                                                   
  Hawaii\n                                                               
      Idaho\n                                                            
         Illinois\n                                                      
               Indiana\n                                                 
                    Iowa\n                                               
                      Kansas\n                                           
                          Kentucky\n                                     
                                Louisiana\n                              
                                       Maine\n                           
                                          Maryland\n                     
                                                Massachusetts\n          
                                                           Michigan\n    
                                                                 Minnesot
 a\n                                                                    M
 ississippi\n                                                            
         Missouri\n                                                      
               Montana\n                                                 
                    Nebraska\n                                           
                          Nevada\n                                       
                              New Hampshire\n                            
                                         New Jersey\n                    
                                                 New Mexico\n            
                                                         New York\n      
                                                               North Caro
 lina\n                                                                  
   North Dakota\n                                                        
             Ohio\n                                                      
               Oklahoma\n                                                
                     Oregon\n                                            
                         Pennsylvania\n                                  
                                   Rhode Island\n                        
                                             South Carolina\n            
                                                         South Dakota\n  
                                                                   Tennes
 see\n                                                                   
  Texas\n                                                                
     Utah\n                                                              
       Vermont\n                                                         
            Virginia\n                                                   
                  Washington\n                                           
                          West Virginia\n                                
                                     Wisconsin\n                         
                                            Wyoming\n                    
                                         \n                        \n    
                     \n                            ZIP Code *\n          
                   \n                        \n                    \n\n  
                   \n                        \n                          
   Phone Number *\n                            \n                        
 \n                        \n                            Date of Birth *\
 n                            \n                        \n               
      \n\n                    \n                    \n                   
      \n                            Demographics\n                       
      \n                        \n                    \n\n               
      \n                        \n                            \n         
                        Gender *\n                                \n     
                                \n                                    Mal
 e\n                                \n                                \n 
                                    \n                                   
  Female\n                                \n                             
    \n                                    \n                             
        LGBTQ+\n                                \n                       
      \n                        \n                        \n             
                Race/Ethnicity\n                            \n           
                      Select (Optional)\n                                
                                                                     Whit
 e\n                                                                    B
 lack or African American\n                                              
                       Hispanic or Latino\n                              
                                       Asian\n                           
                                          American Indian or Alaska Nativ
 e\n                                                                    N
 ative Hawaiian or Other Pacific Islander\n                              
                                       Two or More Races\n               
                                                      Other\n            
                                                 \n                      
   \n                    \n\n                    \n                    \n
                         \n                            Disability Informa
 tion\n                            \n                        \n          
           \n\n                    \n                        \n          
                   \n                                Do you have a disabi
 lity? *\n                                \n                             
        \n                                    Yes\n                      
           \n                                \n                          
           \n                                    No\n                    
             \n                            \n                        \n  
                   \n\n                    \n                        \n  
                           \n                                Date of Disa
 bility\n                                \n                            \n
                             \n                                \n        
                             Is disability service related?\n            
                         \n                                        \n    
                                     Yes\n                               
      \n                                    \n                           
              \n                                        No\n             
                        \n                                \n             
                \n                        \n\n                        \n 
                            \n                                Disability 
 Details\n                                \n                            \
 n                        \n\n                        \n                 
            \n                                Place of Injury\n          
                       \n                            \n                  
       \n                    \n\n                    \n                  
   \n                        \n                            Military Infor
 mation\n                            \n                        \n        
             \n\n                    \n                        \n        
                     \n                                Are you a military
  veteran?\n                                \n                           
          \n                                    Yes\n                    
             \n                                \n                        
             \n                                    No\n                  
               \n                            \n                        \n
                     \n\n                    \n                        \n
                             \n                                Branch of 
 Service\n                                \n                             
        Select Branch\n                                                  
                           Army\n                                        
                                     Navy\n                              
                                               Air Force\n               
                                                              Marines\n  
                                                                         
   Coast Guard\n                                                         
                    Space Force\n                                        
                                     Other\n                             
                                        \n                            \n 
                            \n                                \n         
                            Service Period\n                             
        \n                                        \n                     
                    Pre 2001\n                                    \n     
                                \n                                       
  \n                                        Post 2001\n                  
                   \n                                \n                  
           \n                        \n                    \n\n          
           \n                    \n                        \n            
                 Assistance and Mobility\n                            \n 
                        \n                    \n\n                    \n 
                        \n                            \n                 
                \n                                Require a guide\n      
                       \n                        \n                    \n
 \n                    \n                        \n                      
       \n                                Type of assistance needed\n     
                            \n                            \n             
            \n                    \n\n                    \n             
            \n                            Mobility aids used:\n          
                   \n                                                    
                                                 \n                      
                   \n                                            \n      
                                       Push Rim\n                        
                 \n                                    \n                
                                                     \n                  
                       \n                                            \n  
                                           HC\n                          
               \n                                    \n                  
                                                   \n                    
                     \n                                            \n    
                                         WC\n                            
             \n                                    \n                    
                                                 \n                      
                   \n                                            \n      
                                       AMB\n                             
            \n                                    \n                     
                                                \n                       
                  \n                                            \n       
                                      AMB-Other\n                        
                 \n                                    \n                
                                                     \n                  
                       \n                                            \n  
                                           Cane\n                        
                 \n                                    \n                
                                                     \n                  
                       \n                                            \n  
                                           Crutches\n                    
                     \n                                    \n            
                                                         \n              
                           \n                                            
 \n                                            Prosthetics\n             
                            \n                                    \n     
                                                                \n       
                                  \n                                     
        \n                                            Other\n            
                             \n                                    \n    
                                                         \n              
           \n                    \n\n                    \n              
       \n                        \n                            T-Shirt In
 formation\n                            \n                        \n     
                \n\n                    \n                        \n     
                        T-Shirt Size *\n                            \n   
                              Select Size\n                              
                                                                       XS
 \n                                                                    S\
 n                                                                    M\n
                                                                     L\n 
                                                                    XL\n 
                                                                    XXL\n
                                                                     XXXL
 \n                                                            \n        
                 \n                        \n                            
 T-Shirt Style\n                            \n                           
      Select Style (Optional)\n                                Men's\n   
                              Women's\n                                Un
 isex\n                            \n                        \n          
           \n\n                    \n                    \n              
           \n                            Emergency Contact\n             
                \n                        \n                    \n\n     
                \n                        \n                            E
 mergency Contact Name *\n                            \n                 
        \n                        \n                            Emergency
  Contact Phone *\n                            \n                        
 \n                    \n\n                    \n                    \n  
                       \n                            Waiver and Legal Agr
 eement\n                            \n                        \n        
             \n\n                                            \n          
                                                   \n                    
                 \n                                        Waiver and Rel
 ease of Liability\n                                        I know that p
 articipating in Shifting Gears United athletic events is potentially haz
 ardous. I agree not to enter any Shifting Gears United race\, activity\,
  or sponsored event unless I am medically able and properly trained. I a
 gree to abide by any decision of a race official relative to my ability 
 to safely complete the activity. I assume all risks associated with part
 icipating\, including\, but not limited to: falls\, contact with vehicle
 s\, other participants\, spectators\, or others\, the effect of the weat
 her\, including high heat\, extreme cold and/ or humidity\, traffic cond
 itions of the road\, all such risks being known and appreciated by me.\n
 \nHaving read this Waiver and knowing these facts\, and in consideration
  of your accepting my application\, I\, for myself or for my child and a
 nyone else entitled to act on my behalf\, waive and release\, and agree 
 to indemnify and hold harmless Shifting Gears United to which I belong (
 including directors\, officers\, leaders\, members\, athletes\, voluntee
 rs\, guides)\, the local county and city departments of Parks and Recrea
 tion\, all sponsors of Shifting Gears United and any of their races or e
 vents\, members and volunteers\, from present and future claims and liab
 ilities of any kind\, known or unknown\, arising out of my participation
  in any Shifting Gears United event or related activities\, even though 
 that liability may arise out of ordinary negligence or fault on the part
  of the persons named in this Waiver. By registering for a Shifting Gear
 s United or any other race though Shifting Gears United\, I hereby grant
  my permission to Shifting Gears United to act as proxy on my behalf for
  that race with full authorization to execute consents\, waivers and rel
 eases included in the Shifting Gears United registration. I further gran
 t my permission to all the foregoing to use photographs\, motion picture
 s\, recordings\, or any other record\nof my participation in Shifting Ge
 ars United for any legitimate purpose\, without remuneration. I have rea
 d this waiver and agree to the terms. \n                                
                                                     \n                  
                               \n                                        
             Initial Here *\n                                            
         \n                                                \n            
                                 \n                                      
                                       \n                                
 \n                                                            \n        
                             \n                                        Sa
 fe Sport Acknowledgement\n                                        I unde
 rstand that (1) participation with Shifting Gear s United is strictly vo
 luntary\, and (2) I a monthly to receive/provide running companionship\,
  advice\, and encouragement from my fellow Shifting Gears United athlete
 s/volunteers/guides. If anything\, else is asked of me\, or if I am othe
 rwise uncomfortable or concerned\, I will bring it to the immediate atte
 ntion of the Shifting Gears United President. \n                        
                                                             \n          
                                       \n                                
                     Initial Here *\n                                    
                 \n                                                \n    
                                         \n                              
                                               \n                        
         \n                                                    \n        
             \n                    \n                    \n              
           \n                            Printed Name *\n                
             \n                        \n                        \n      
                       Digital Signature (Type your full name) *\n       
                      \n                            By typing your name h
 ere\, you acknowledge that this serves as your electronic signature.\n  
                       \n                    \n\n                    \n  
                   \n                        \n                          
   \n                                Parent/Guardian Information (Require
 d for participants under 18)\n                                \n        
                     \n                        \n\n                      
   \n                            \n                                Parent
 /Guardian Name\n                                \n                      
       \n                            \n                                Pa
 rent/Guardian Digital Signature\n                                \n     
                        \n                        \n                    \
 n\n                    \n                    \n                        \
 n                            Witness Information (Optional)\n           
                  \n                        \n                    \n\n   
                  \n                        \n                           
  Witness Name\n                            \n                        \n 
                        \n                            Witness Digital Sig
 nature\n                            \n                        \n        
             \n\n                    \n                        \n        
                     Submit Registration\n                        \n     
                \n                \n            \n        \n    \n\n\n\n 
    \n        \n            \n                Registration Status\n      
           \n            \n            \n                \n            \n
             \n                Close\n                New Registration\n\
 nImported from: https://adapt2play.org/events/22447-handcycles-bikes-at-
 sunrise-group-ride
URL:https://shiftinggearsunited.org/event/handcycles-bikes-at-sunrise-gro
 up-ride/2026-05-08/
SUMMARY:Handcycles & Bikes at Sunrise - Group Ride
LOCATION:Location:: Seabreeze Circle\, Jupiter Florida 33477 
SEQUENCE:1
END:VEVENT
END:VCALENDAR
