BEGIN:VCALENDAR
PRODID;X-RICAL-TZSOURCE=TZINFO:-//Calagator//EN
CALSCALE:GREGORIAN
X-WR-CALNAME:Adapt2Play
METHOD:PUBLISH
VERSION:2.0
BEGIN:VEVENT
CREATED;VALUE=DATE-TIME:20260331T000244Z
DTEND;VALUE=DATE-TIME:20260912T120000Z
DTSTART;VALUE=DATE-TIME:20260912T110000Z
DTSTAMP;VALUE=DATE-TIME:20260331T000244Z
LAST-MODIFIED;VALUE=DATE-TIME:20260402T000239Z
UID:https://adapt2play.org/events/22432-wheels-in-motion-finale-world-wcm
 x-championship-invite
DESCRIPTION:Celebrate the season with the Wheels in Motion closing event.
  This special session highlights athlete progress and includes invitatio
 ns to the World WCMX Championship pathway. \n \n\nImported from: https:/
 /adapt2play.org/events/22432-wheels-in-motion-finale-world-wcmx-champion
 ship-invite
URL:https://smclf.org/event/wheels-in-motion-finale-world-wcmx-championsh
 ip-invite/
SUMMARY:Wheels in Motion Finale + World WCMX Championship Invite
LOCATION:Location:: 200 West Loyola Drive\, Kenner Louisiana 70065 
SEQUENCE:2
END:VEVENT
END:VCALENDAR
