BEGIN:VCALENDAR
PRODID;X-RICAL-TZSOURCE=TZINFO:-//Calagator//EN
CALSCALE:GREGORIAN
X-WR-CALNAME:Adapt2Play
METHOD:PUBLISH
VERSION:2.0
BEGIN:VEVENT
CREATED;VALUE=DATE-TIME:20260331T000244Z
DTEND;VALUE=DATE-TIME:20260912T120000Z
DTSTART;VALUE=DATE-TIME:20260912T110000Z
DTSTAMP;VALUE=DATE-TIME:20260331T000244Z
LAST-MODIFIED;VALUE=DATE-TIME:20260402T000239Z
UID:https://adapt2play.org/events/22431-wheels-in-motion-fall-clinic-adap
 tive-skate-progression
DESCRIPTION:Continue your journey with the fall session of Wheels in Moti
 on. This clinic focuses on skill-building\, progression\, and expanding 
 opportunities for adaptive athletes in a supportive and high-energy sett
 ing. \n \n\nImported from: https://adapt2play.org/events/22431-wheels-in
 -motion-fall-clinic-adaptive-skate-progression
URL:https://smclf.org/event/wheels-in-motion-fall-clinic-adaptive-skate-p
 rogression-2/
SUMMARY:Wheels in Motion Fall Clinic – Adaptive Skate Progression
LOCATION:Location:: 200 West Loyola Drive\, Kenner Louisiana 70065 
SEQUENCE:2
END:VEVENT
END:VCALENDAR
