BEGIN:VCALENDAR
PRODID;X-RICAL-TZSOURCE=TZINFO:-//Calagator//EN
CALSCALE:GREGORIAN
X-WR-CALNAME:Adapt2Play
METHOD:PUBLISH
VERSION:2.0
BEGIN:VEVENT
CREATED;VALUE=DATE-TIME:20260331T000244Z
DTEND;VALUE=DATE-TIME:20260411T110000Z
DTSTART;VALUE=DATE-TIME:20260411T100000Z
DTSTAMP;VALUE=DATE-TIME:20260331T000244Z
LAST-MODIFIED;VALUE=DATE-TIME:20260402T000239Z
UID:https://adapt2play.org/events/22429-unity-jam-fest-2026-adaptive-skat
 e-wcmx-community-festival
DESCRIPTION:Join us for Unity Jam Fest\, a high-energy adaptive skate fes
 tival bringing together WCMX riders\, adaptive athletes\, families\, and
  the community. Experience live demos\, hands-on clinics\, and an inclus
 ive atmosphere designed to inspire\, connect\, and push adaptive sports 
 forward.\n\nImported from: https://adapt2play.org/events/22429-unity-jam
 -fest-2026-adaptive-skate-wcmx-community-festival
URL:https://smclf.org/event/unity-jam-fest-2026-adaptive-skate-wcmx-commu
 nity-festival-2/
SUMMARY:Unity Jam Fest 2026: Adaptive Skate & WCMX Community Festival
LOCATION:Location:: 200 West Loyola Drive\, Kenner Louisiana 70065 
SEQUENCE:2
END:VEVENT
END:VCALENDAR
