BEGIN:VCALENDAR
PRODID;X-RICAL-TZSOURCE=TZINFO:-//Calagator//EN
CALSCALE:GREGORIAN
X-WR-CALNAME:Adapt2Play
METHOD:PUBLISH
VERSION:2.0
BEGIN:VEVENT
CREATED;VALUE=DATE-TIME:20260331T000046Z
DTEND;VALUE=DATE-TIME:20260603T181500Z
DTSTART;VALUE=DATE-TIME:20260603T171500Z
DTSTAMP;VALUE=DATE-TIME:20260331T000046Z
LAST-MODIFIED;VALUE=DATE-TIME:20260331T000046Z
UID:https://adapt2play.org/events/22420-horse-experience
DESCRIPTION:Come spend some time with the horses.Brush\, pet\, take photo
 s\, and perhaps ride around the arena.Limited spotsSave your spot - clic
 k here\n\nImported from: https://adapt2play.org/events/22420-horse-exper
 ience
SUMMARY:Horse Experience
LOCATION:Location:: 114 Quail Hollow Road\, Felton California 95018 
SEQUENCE:1
END:VEVENT
END:VCALENDAR
