BEGIN:VCALENDAR
PRODID;X-RICAL-TZSOURCE=TZINFO:-//Calagator//EN
CALSCALE:GREGORIAN
X-WR-CALNAME:Adapt2Play
METHOD:PUBLISH
VERSION:2.0
BEGIN:VEVENT
CREATED;VALUE=DATE-TIME:20260331T000046Z
DTEND;VALUE=DATE-TIME:20260504T203000Z
DTSTART;VALUE=DATE-TIME:20260504T193000Z
DTSTAMP;VALUE=DATE-TIME:20260331T000046Z
LAST-MODIFIED;VALUE=DATE-TIME:20260420T000045Z
UID:https://adapt2play.org/events/22419-sailing-on-the-nomad
DESCRIPTION:Sign up to enjoy an easy breezy sail along our coast. Sociali
 ze\, see marine life\, and find a bit of relaxation. Click Here to reser
 ve your seat\n\nImported from: https://adapt2play.org/events/22419-saili
 ng-on-the-nomad
SUMMARY:Sailing on the Nomad
LOCATION:Location:: 789 Mariner Park Way\, Santa Cruz California 95062 
SEQUENCE:11
END:VEVENT
END:VCALENDAR
