BEGIN:VCALENDAR
PRODID;X-RICAL-TZSOURCE=TZINFO:-//Calagator//EN
CALSCALE:GREGORIAN
X-WR-CALNAME:Adapt2Play
METHOD:PUBLISH
VERSION:2.0
BEGIN:VEVENT
CREATED;VALUE=DATE-TIME:20260331T000046Z
DTEND;VALUE=DATE-TIME:20260518T010000Z
DTSTART;VALUE=DATE-TIME:20260518T000000Z
DTSTAMP;VALUE=DATE-TIME:20260331T000046Z
LAST-MODIFIED;VALUE=DATE-TIME:20260331T000046Z
UID:https://adapt2play.org/events/22418-kayaking-off-the-wharf
DESCRIPTION:Join an experienced paddler in a two person kayak out on the 
 bay.See the sea life up close\, feel the kelp in your hands and the spra
 y of salt water on your face.  (weather dependent).Click here to save yo
 ur spot \n\nImported from: https://adapt2play.org/events/22418-kayaking-
 off-the-wharf
SUMMARY:Kayaking off the Wharf
LOCATION:Location:: 2 Municipal Wharf\, Santa Cruz California 95060 
SEQUENCE:1
END:VEVENT
END:VCALENDAR
