BEGIN:VCALENDAR
PRODID;X-RICAL-TZSOURCE=TZINFO:-//Calagator//EN
CALSCALE:GREGORIAN
X-WR-CALNAME:Adapt2Play
METHOD:PUBLISH
VERSION:2.0
BEGIN:VEVENT
CREATED;VALUE=DATE-TIME:20260330T000333Z
DTEND;VALUE=DATE-TIME:20260414T080000Z
DTSTART;VALUE=DATE-TIME:20260414T070000Z
DTSTAMP;VALUE=DATE-TIME:20260330T000333Z
LAST-MODIFIED;VALUE=DATE-TIME:20260330T000333Z
UID:https://adapt2play.org/events/22414-recreational-team
DESCRIPTION:\n\nImported from: https://adapt2play.org/events/22414-recrea
 tional-team
URL:https://rowrio.org/event/recreational-team/2026-04-14/
SUMMARY:Recreational Team
LOCATION:Location:: 730 North Mill Avenue\, Tempe Arizona 85288 
SEQUENCE:1
END:VEVENT
END:VCALENDAR
