BEGIN:VCALENDAR
PRODID;X-RICAL-TZSOURCE=TZINFO:-//Calagator//EN
CALSCALE:GREGORIAN
X-WR-CALNAME:Adapt2Play
METHOD:PUBLISH
VERSION:2.0
BEGIN:VEVENT
CREATED;VALUE=DATE-TIME:20260330T000307Z
DTEND;VALUE=DATE-TIME:20260425T140000Z
DTSTART;VALUE=DATE-TIME:20260425T130000Z
DTSTAMP;VALUE=DATE-TIME:20260330T000307Z
LAST-MODIFIED;VALUE=DATE-TIME:20260417T000252Z
UID:https://adapt2play.org/events/22409-group-run-achilles-boston
DESCRIPTION:\n\nImported from: https://adapt2play.org/events/22409-group-
 run-achilles-boston
URL:https://adaptivesportsne.org/event/achilles-international-runs-aib-bo
 ston-2/2026-04-25/
SUMMARY:Group Run - Achilles (Boston)
LOCATION:Location:: 276 Newbury Street\, Boston Massachusetts 02116 
SEQUENCE:5
END:VEVENT
END:VCALENDAR
