BEGIN:VCALENDAR
PRODID;X-RICAL-TZSOURCE=TZINFO:-//Calagator//EN
CALSCALE:GREGORIAN
X-WR-CALNAME:Adapt2Play
METHOD:PUBLISH
VERSION:2.0
BEGIN:VEVENT
CREATED;VALUE=DATE-TIME:20260330T000307Z
DTEND;VALUE=DATE-TIME:20260425T140000Z
DTSTART;VALUE=DATE-TIME:20260425T130000Z
DTSTAMP;VALUE=DATE-TIME:20260330T000307Z
LAST-MODIFIED;VALUE=DATE-TIME:20260420T000323Z
UID:https://adapt2play.org/events/22408-wheelchair-track-asne-west-roxbur
 y
DESCRIPTION:\n\nImported from: https://adapt2play.org/events/22408-wheelc
 hair-track-asne-west-roxbury
URL:https://adaptivesportsne.org/event/wheelchair-track-west-roxbury/2026
 -04-25/
SUMMARY:Wheelchair Track- ASNE (West Roxbury)
LOCATION:Location:: 235 Baker Street\, Boston Massachusetts 02132 
SEQUENCE:14
END:VEVENT
END:VCALENDAR
