BEGIN:VCALENDAR
PRODID;X-RICAL-TZSOURCE=TZINFO:-//Calagator//EN
CALSCALE:GREGORIAN
X-WR-CALNAME:Adapt2Play
METHOD:PUBLISH
VERSION:2.0
BEGIN:VEVENT
CREATED;VALUE=DATE-TIME:20260330T000116Z
DTEND;VALUE=DATE-TIME:20260426T153000Z
DTSTART;VALUE=DATE-TIME:20260426T143000Z
DTSTAMP;VALUE=DATE-TIME:20260330T000116Z
LAST-MODIFIED;VALUE=DATE-TIME:20260330T000116Z
UID:https://adapt2play.org/events/22404-swim-lessons-boston
DESCRIPTION:Held in partnership with the Hale Family YMCA and Simmons Uni
 versity \n\n\n\n\nAdaptive Sports New England’s swim lesson program is h
 eld in partnership with the Hale Family YMCA in Quincy and Simmons Unive
 rsity. The lessons are overseen by Paralympian Michael Prout\, and the l
 essons are taught by YMCA professionals and Simmons swimmers. These less
 ons are great for children through their one on one student to teacher r
 atio\, where swimming skills can be developed and improved. \nAs with al
 l Adaptive Sports New England programs\, this program is specifically de
 signed for those with visual or mobility impairments. Participating chil
 dren should demonstrate typical cognitive and behavioral development. Wh
 ile we believe that all children deserve and can benefit from learning t
 o swim\, these programs are not designed to provide the special support 
 that children on the autism spectrum or children with intellectual impai
 rments deserve.  \nWe expect this program to fill up. If you would like 
 to express interest or reserve a spot\, please fill out the interest for
 m below. For ages 6 – 18. \n\nImported from: https://adapt2play.org/even
 ts/22404-swim-lessons-boston
URL:https://adaptivesportsne.org/event/swim-lessons-boston-2/2026-04-26/
SUMMARY:Swim Lessons (Boston)
LOCATION:Location:: 94 Pilgrim Road\, Boston Massachusetts 02215 
SEQUENCE:1
END:VEVENT
END:VCALENDAR
