BEGIN:VCALENDAR
PRODID;X-RICAL-TZSOURCE=TZINFO:-//Calagator//EN
CALSCALE:GREGORIAN
X-WR-CALNAME:Adapt2Play
METHOD:PUBLISH
VERSION:2.0
BEGIN:VEVENT
CREATED;VALUE=DATE-TIME:20260329T000325Z
DTEND;VALUE=DATE-TIME:20260415T130000Z
DTSTART;VALUE=DATE-TIME:20260415T120000Z
DTSTAMP;VALUE=DATE-TIME:20260329T000325Z
LAST-MODIFIED;VALUE=DATE-TIME:20260330T000323Z
UID:https://adapt2play.org/events/22393-bowling
DESCRIPTION:The BlazeSports Veteran Bowling Program is back and better th
 an ever! This exciting program offers veterans a great way to stay activ
 e\, connect with fellow service members\, and enjoy some friendly compet
 ition. Whether you’re a seasoned bowler or trying the sport for the firs
 t time\, our sessions provide a welcoming and supportive environment for
  all ability levels. Adaptive equipment is available as needed\, ensurin
 g that every participant can fully enjoy the game. \nBowling is more tha
 n just a sport—it’s a chance to build friendships\, relieve stress\, and
  have fun in a relaxed\, social setting. Each session fosters camaraderi
 e among veterans\, creating a strong sense of community while promoting 
 physical activity and overall well-being. The structured yet laid-back a
 tmosphere allows veterans to engage at their own pace while sharing laug
 hter and great moments with their peers. \nJoin us every Wednesday from 
 12 PM to 2:30 PM at Bowlero in Lawrenceville for an afternoon of strikes
 \, spares\, and good times. Registration is required\, so be sure to sig
 n up and reserve your spot. Don’t miss this opportunity to roll into act
 ion\, connect with fellow veterans\, and enjoy a sport that brings peopl
 e together! \nWhen: Wednesdays \n12 PM – 2:30 PM \nWhere: Bowlero\n3835 
 Lawrenceville Hwy\nLawrenceville\, GA 30044\n\nImported from: https://ad
 apt2play.org/events/22393-bowling
URL:https://blazesports.org/event/bowling-2/2026-04-15/
SUMMARY:Bowling
LOCATION:Location:: 3835 Lawrenceville Highway\, Lawrenceville Georgia 30
 044 
SEQUENCE:2
END:VEVENT
END:VCALENDAR
