BEGIN:VCALENDAR
PRODID;X-RICAL-TZSOURCE=TZINFO:-//Calagator//EN
CALSCALE:GREGORIAN
X-WR-CALNAME:Adapt2Play
METHOD:PUBLISH
VERSION:2.0
BEGIN:VEVENT
CREATED;VALUE=DATE-TIME:20260329T000325Z
DTEND;VALUE=DATE-TIME:20260411T140000Z
DTSTART;VALUE=DATE-TIME:20260411T130000Z
DTSTAMP;VALUE=DATE-TIME:20260329T000325Z
LAST-MODIFIED;VALUE=DATE-TIME:20260330T000323Z
UID:https://adapt2play.org/events/22391-learn-to-swim
DESCRIPTION:Learn to Swim\nThe BlazeSports Learn to Swim program caters t
 o those wanting to increase their confidence in the water by learning ho
 w to swim and introduction to strokes. Our coaches are trained in the Bl
 azeSports Learn to Swim curriculum. Practices consist of 30 minute one –
  one sessions with a swim coach.  This program has limited availability\
 , register today to secure your spot and we will reach out to you with y
 our specfic time slot and information. \n*athletes must be able to commi
 t to the majority of the practice dates*. \nPRACTICE Time/Day: Saturdays
  1 PM – 4 pm \nStart Date of Spring/Summer Block: February 28\, 2026 \nL
 ocation : Holbrook Decatur \n1882 Clairmont Rd \nSuite 200 \nDecatur\, G
 A 30033 \n\nWHO: \n\nYouth ages 5 – 22 with a physical disability includ
 ing but not limited to amputation\, spinal cord injury\, cerebral palsy\
 , spina bifida\, muscular dystrophy\, visual impairments\, and other rel
 ated disabilities.\n\n\nCOST: \n\nFree for BlazeSports America Annual Yo
 uth Members. The BlazeSports America swimming program is included in a o
 ne-time BlazeSports America annual fee of $100 which allows you to parti
 cipate in as many BlazeSports programs as you would like throughout the 
 year. No additional fees required!\n\nImported from: https://adapt2play.
 org/events/22391-learn-to-swim
URL:https://blazesports.org/event/learn-to-swim/2026-04-11/
SUMMARY:Learn to Swim
LOCATION:Location:: Holbrook\, Holbrook New South Wales  
SEQUENCE:2
END:VEVENT
END:VCALENDAR
