BEGIN:VCALENDAR
PRODID;X-RICAL-TZSOURCE=TZINFO:-//Calagator//EN
CALSCALE:GREGORIAN
X-WR-CALNAME:Adapt2Play
METHOD:PUBLISH
VERSION:2.0
BEGIN:VEVENT
CREATED;VALUE=DATE-TIME:20260329T000310Z
DTEND;VALUE=DATE-TIME:20260422T223000Z
DTSTART;VALUE=DATE-TIME:20260422T213000Z
DTSTAMP;VALUE=DATE-TIME:20260329T000310Z
LAST-MODIFIED;VALUE=DATE-TIME:20260330T000307Z
UID:https://adapt2play.org/events/22390-court-sports-northeast-passage-du
 rham
DESCRIPTION:\n\nImported from: https://adapt2play.org/events/22390-court-
 sports-northeast-passage-durham
URL:https://adaptivesportsne.org/event/court-sports-northeast-passage/202
 6-04-22/
SUMMARY:Court Sports- Northeast Passage (Durham)
LOCATION:Location:: Hamel Drive\, Durham New Hampshire 03824 
SEQUENCE:2
END:VEVENT
END:VCALENDAR
